BEGIN:VCALENDAR
VERSION:2.0
PRODID:-//Laughs Comedy Club in Seattle - ECPv6.15.20//NONSGML v1.0//EN
CALSCALE:GREGORIAN
METHOD:PUBLISH
X-WR-CALNAME:Laughs Comedy Club in Seattle
X-ORIGINAL-URL:https://laughscomedyclub.com
X-WR-CALDESC:Events for Laughs Comedy Club in Seattle
REFRESH-INTERVAL;VALUE=DURATION:PT1H
X-Robots-Tag:noindex
X-PUBLISHED-TTL:PT1H
BEGIN:VTIMEZONE
TZID:America/Los_Angeles
BEGIN:DAYLIGHT
TZOFFSETFROM:-0800
TZOFFSETTO:-0700
TZNAME:PDT
DTSTART:20250309T100000
END:DAYLIGHT
BEGIN:STANDARD
TZOFFSETFROM:-0700
TZOFFSETTO:-0800
TZNAME:PST
DTSTART:20251102T090000
END:STANDARD
BEGIN:DAYLIGHT
TZOFFSETFROM:-0800
TZOFFSETTO:-0700
TZNAME:PDT
DTSTART:20260308T100000
END:DAYLIGHT
BEGIN:STANDARD
TZOFFSETFROM:-0700
TZOFFSETTO:-0800
TZNAME:PST
DTSTART:20261101T090000
END:STANDARD
BEGIN:DAYLIGHT
TZOFFSETFROM:-0800
TZOFFSETTO:-0700
TZNAME:PDT
DTSTART:20270314T100000
END:DAYLIGHT
BEGIN:STANDARD
TZOFFSETFROM:-0700
TZOFFSETTO:-0800
TZNAME:PST
DTSTART:20271107T090000
END:STANDARD
END:VTIMEZONE
BEGIN:VEVENT
DTSTART;TZID=America/Los_Angeles:20261113T191500
DTEND;TZID=America/Los_Angeles:20261114T230000
DTSTAMP:20260424T064524
CREATED:20260401T211859Z
LAST-MODIFIED:20260401T212050Z
UID:23799-1794597300-1794697200@laughscomedyclub.com
SUMMARY:Comedy Show: Heather Shaw November 13th and 14th at Laughs Comedy- Seattle
DESCRIPTION:A great weekend of comedy with Heather Shaw! Doors open at 6:30pm\, with 2-item menu order minimum. Join us for dinner\, drinks and comedy.\n\n\nHeather Shaw is a seasoned stand-up comic who has gained a large following on social media for her quick wit\, sharp takes\, and uncanny resemblance to Jim Carrey. She’s been featured on The Today Show\, Access Hollywood\, and The Tamron Hall Show\, and has worked with comics such as Mark Normand\, Eric Andre\, and Fortune Feimster. Heather has a weekly podcast\, Heather Shaw is Kidding\, where she makes fun of current events happening in pop culture\, politics\, and elsewhere.
URL:https://laughscomedyclub.com/ticket/comedy-show-heather-shaw-november-13th-and-14th-at-laughs-comedy-seattle/
LOCATION:Laughs Comedy Club\, 5220 Roosevelt Way Northeast\, Seattle\, WA 98105\, Seattle\, WA\, 98105\, US
CATEGORIES:Weekend
ATTACH;FMTTYPE=image/png:https://laughscomedyclub.com/wp-content/uploads/2026/04/23799_image.png
END:VEVENT
END:VCALENDAR